BEGIN:VCALENDAR
VERSION:2.0
PRODID:-//Memory Road Music - ECPv6.15.20//NONSGML v1.0//EN
CALSCALE:GREGORIAN
METHOD:PUBLISH
X-WR-CALNAME:Memory Road Music
X-ORIGINAL-URL:https://www.memoryroadmusic.com
X-WR-CALDESC:Events for Memory Road Music
REFRESH-INTERVAL;VALUE=DURATION:PT1H
X-Robots-Tag:noindex
X-PUBLISHED-TTL:PT1H
BEGIN:VTIMEZONE
TZID:America/Chicago
BEGIN:DAYLIGHT
TZOFFSETFROM:-0600
TZOFFSETTO:-0500
TZNAME:CDT
DTSTART:20220313T080000
END:DAYLIGHT
BEGIN:STANDARD
TZOFFSETFROM:-0500
TZOFFSETTO:-0600
TZNAME:CST
DTSTART:20221106T070000
END:STANDARD
BEGIN:DAYLIGHT
TZOFFSETFROM:-0600
TZOFFSETTO:-0500
TZNAME:CDT
DTSTART:20230312T080000
END:DAYLIGHT
BEGIN:STANDARD
TZOFFSETFROM:-0500
TZOFFSETTO:-0600
TZNAME:CST
DTSTART:20231105T070000
END:STANDARD
BEGIN:DAYLIGHT
TZOFFSETFROM:-0600
TZOFFSETTO:-0500
TZNAME:CDT
DTSTART:20240310T080000
END:DAYLIGHT
BEGIN:STANDARD
TZOFFSETFROM:-0500
TZOFFSETTO:-0600
TZNAME:CST
DTSTART:20241103T070000
END:STANDARD
END:VTIMEZONE
BEGIN:VEVENT
DTSTART;TZID=America/Chicago:20230317T190000
DTEND;TZID=America/Chicago:20230317T220000
DTSTAMP:20260424T105115
CREATED:20221212T203312Z
LAST-MODIFIED:20221212T203312Z
UID:2194-1679079600-1679090400@www.memoryroadmusic.com
SUMMARY:Moonliters Dance Club (Trio)
DESCRIPTION:Glen Holverson\, on sax\, joins Dennis & Ken for this Moonliter’s Dance Club performance! \nMoonliters Dance Club (* Members & Invited Guests ONLY!)\nFairfield Glade Multi-Purpose Building\n455 Lakeview Dr.\nFairfield Glade\, TN \n* For membership information or to secure a guest invitation\, contact moonlitersffg@gmail.com
URL:https://www.memoryroadmusic.com/event/moonliters-3-17-23/
END:VEVENT
BEGIN:VEVENT
DTSTART;TZID=America/Chicago:20230210T190000
DTEND;TZID=America/Chicago:20230210T220000
DTSTAMP:20260424T105115
CREATED:20221212T203421Z
LAST-MODIFIED:20221212T203421Z
UID:2196-1676055600-1676066400@www.memoryroadmusic.com
SUMMARY:Light & Lively Dance Club
DESCRIPTION:Light & Lively Dance Club (* Members & Guests)\nFairfield Glade Multi-Purpose Building\n455 Lakeview Dr.\nFairfield Glade\, TN \n* This dance is open to guests as well as club members. Admission is $7.50 per person if you are vaccinated. Bring your beverage of choice (B.Y.O.B.) and please bring a snack to share at your table. \n* For membership information (couples and singles) contact Shirley at smatthews1942@gmail.com.
URL:https://www.memoryroadmusic.com/event/light-lively-2-10-23/
END:VEVENT
BEGIN:VEVENT
DTSTART;TZID=America/Chicago:20230119T170000
DTEND;TZID=America/Chicago:20230119T190000
DTSTAMP:20260424T105115
CREATED:20221212T205834Z
LAST-MODIFIED:20230112T035010Z
UID:2198-1674147600-1674154800@www.memoryroadmusic.com
SUMMARY:Cabin Fever - Concert & Dance (Trio)
DESCRIPTION:The Center in Fairfield Glade is hosting an Indoor Concert Series for 2023 with a variety of different groups and themes. Memory Road\, (the Trio) featuring Dennis Hill\, Glen Holverson and Ken Duller will perform our annual “Cabin Fever” show on Thursday\, January 19th from 5 to 7 PM. \n(NOTE: We’ll also be performing a “Spring Fling” concert on Thursday\, April 6th at the Center.) \nIn addition to listening and dancing to your favorite oldies from the 50’s through the 90’s\, this “Cabin Fever Show” will feature two special guests\, local favorite D.J. Garrison and Larry Opatik. They will join Memory Road for a special “Doo Wop” vocal segment that will pay tribute to the songs and vocal groups that performed during the late 50’s and early 60’s. … Don’t miss this show! \nAdvance tickets are available at the Center for $14.00 a person. Get your tickets soon. These shows have sold out in previous years! As in the past\, there will be table seating and a large dance floor. Once again\, the date and time for this show is Thursday\, January 19th from 5 to 7 PM. \nGlen\, Dennis & Ken performing at the Palace Theatre in Crossville.
URL:https://www.memoryroadmusic.com/event/cabin-fever-1-19-23/
END:VEVENT
END:VCALENDAR