BEGIN:VCALENDAR
VERSION:2.0
PRODID:-//Memory Road Music - ECPv6.15.20//NONSGML v1.0//EN
CALSCALE:GREGORIAN
METHOD:PUBLISH
X-ORIGINAL-URL:https://www.memoryroadmusic.com
X-WR-CALDESC:Events for Memory Road Music
REFRESH-INTERVAL;VALUE=DURATION:PT1H
X-Robots-Tag:noindex
X-PUBLISHED-TTL:PT1H
BEGIN:VTIMEZONE
TZID:America/Chicago
BEGIN:DAYLIGHT
TZOFFSETFROM:-0600
TZOFFSETTO:-0500
TZNAME:CDT
DTSTART:20220313T080000
END:DAYLIGHT
BEGIN:STANDARD
TZOFFSETFROM:-0500
TZOFFSETTO:-0600
TZNAME:CST
DTSTART:20221106T070000
END:STANDARD
BEGIN:DAYLIGHT
TZOFFSETFROM:-0600
TZOFFSETTO:-0500
TZNAME:CDT
DTSTART:20230312T080000
END:DAYLIGHT
BEGIN:STANDARD
TZOFFSETFROM:-0500
TZOFFSETTO:-0600
TZNAME:CST
DTSTART:20231105T070000
END:STANDARD
BEGIN:DAYLIGHT
TZOFFSETFROM:-0600
TZOFFSETTO:-0500
TZNAME:CDT
DTSTART:20240310T080000
END:DAYLIGHT
BEGIN:STANDARD
TZOFFSETFROM:-0500
TZOFFSETTO:-0600
TZNAME:CST
DTSTART:20241103T070000
END:STANDARD
END:VTIMEZONE
BEGIN:VEVENT
DTSTART;TZID=America/Chicago:20230512T190000
DTEND;TZID=America/Chicago:20230512T220000
DTSTAMP:20260424T062134
CREATED:20230103T132726Z
LAST-MODIFIED:20230509T124032Z
UID:2211-1683918000-1683928800@www.memoryroadmusic.com
SUMMARY:Light & Lively Dance Club
DESCRIPTION:Light & Lively Dance Club (* Members & Guests)\nFairfield Glade Multi-Purpose Building\n455 Lakeview Dr.\nFairfield Glade\, TN \n* This dance is open to guests as well as club members. Admission is $7.50 per person. Bring your beverage of choice (B.Y.O.B.) and please bring a snack to share at your table. \n* For membership information (couples and singles) and “guest invites” contact Shirley at smatthews1942@gmail.com.
URL:https://www.memoryroadmusic.com/event/light-lively-5-12-23/
END:VEVENT
BEGIN:VEVENT
DTSTART;TZID=America/Chicago:20230513T170000
DTEND;TZID=America/Chicago:20230513T200000
DTSTAMP:20260424T062134
CREATED:20230315T162156Z
LAST-MODIFIED:20230327T122736Z
UID:2237-1683997200-1684008000@www.memoryroadmusic.com
SUMMARY:Hebbertsburg Community Center Dinner-Dance (Trio)
DESCRIPTION:The Hebbertsburg Community Center Dinner-Dance series for 2023 continues on May 13th and every second Saturday of June\, July and August. \n\nDoors open around 3:15 PM.\nFood is available at 4:15 PM.\nDance music with Memory Road (the trio with Dennis\, Ken & Glen) is from 5:00 PM to 8:00 PM.\nAs\, in the past\, the Sweet T Cloggers will entertain you on the breaks.\nThe Cakewalk contest remains at $1 a chance\, with several volunteers providing the delicious cakes.\nAdmission – $7.00 per person at the door.\nDinner (Optional) – $11.00 per person (food costs have greatly increased). Meal choices are: spaghetti and meat sauce with bread or a BBQ sandwich with beans and chips and both meals include your choice of coffee\, tea\, water or a soft drink. Extra beverages and/or a dessert are still $1.00 each.\nNOTE: All of the workers at Hebbertsburg are volunteers and all monies collected are used to cover ongoing expenses.\n\nNOTE: In the past\, prior to Covid\, these events were jam packed with hard to find parking. Seems that now\, everybody thinks that is still the case. Not so! There are seats and parking spaces available\, so come on out and enjoy!\n \nDirections: From Fairfield Glade\, from the 4-way stop\, take Peavine Road north (away from I-40) about 5 miles to the Y in the road with the stone house in the center. Take the left fork about a city block to the blue Community Center on the left. Any questions\, call 931-707-7837.
URL:https://www.memoryroadmusic.com/event/hebbertsburg-5-13-23/
END:VEVENT
BEGIN:VEVENT
DTSTART;TZID=America/Chicago:20230519T143000
DTEND;TZID=America/Chicago:20230519T173000
DTSTAMP:20260424T062134
CREATED:20230322T213347Z
LAST-MODIFIED:20230503T121814Z
UID:2242-1684506600-1684517400@www.memoryroadmusic.com
SUMMARY:Homesteads Artisans Festival
DESCRIPTION:Memory Road\, featuring Ken & Dennis (the Duo)\, will perform at the Spring Homesteads Artisans Festival in Crossville\, TN on Friday\, May 19th from 2:30 to 5:30 PM. \nHere’s More Information: \nThe Spring Homesteads Artisan Featival will be held at 4950 Hwy 127 S Crossville\, TN approximately a mile South of Cumberland Mountain State Park on Friday\, May 19th and Saturday\, May 20th from 9-6 CST. \nArtists include quilters\, pottery\, watercolors\, photography\, stained glass and much more. The Cumberland County Woodturners will have a booth selling their beautiful wood turned items with proceeds going to a local charity. \nWe will have live music both days from 2:30-5:30. Memory Road will be performing on Friday and Seven Pine\, a bluegrass group\, will entertain on Saturday. Bring a lawn chair and enjoy the show. \nThe Steele Mill\, FATS BBQ and Sunrise Dairy will be on hand for breakfast\, lunch\, dinner and snack options. \nAdmission is $5 per person and is good for both days. Kids 12 and under are free.  For more information visit DogwoodExchange.com. \nThe event takes place at 4950 Highway 127 South (just past Cumberland Mountain State Park and just before the Dollar General Store on the right).
URL:https://www.memoryroadmusic.com/event/artisans-festival-5-19-23/
END:VEVENT
END:VCALENDAR