BEGIN:VCALENDAR
VERSION:2.0
PRODID:-//Memory Road Music - ECPv6.15.20//NONSGML v1.0//EN
CALSCALE:GREGORIAN
METHOD:PUBLISH
X-ORIGINAL-URL:https://www.memoryroadmusic.com
X-WR-CALDESC:Events for Memory Road Music
REFRESH-INTERVAL;VALUE=DURATION:PT1H
X-Robots-Tag:noindex
X-PUBLISHED-TTL:PT1H
BEGIN:VTIMEZONE
TZID:America/Chicago
BEGIN:DAYLIGHT
TZOFFSETFROM:-0600
TZOFFSETTO:-0500
TZNAME:CDT
DTSTART:20220313T080000
END:DAYLIGHT
BEGIN:STANDARD
TZOFFSETFROM:-0500
TZOFFSETTO:-0600
TZNAME:CST
DTSTART:20221106T070000
END:STANDARD
BEGIN:DAYLIGHT
TZOFFSETFROM:-0600
TZOFFSETTO:-0500
TZNAME:CDT
DTSTART:20230312T080000
END:DAYLIGHT
BEGIN:STANDARD
TZOFFSETFROM:-0500
TZOFFSETTO:-0600
TZNAME:CST
DTSTART:20231105T070000
END:STANDARD
BEGIN:DAYLIGHT
TZOFFSETFROM:-0600
TZOFFSETTO:-0500
TZNAME:CDT
DTSTART:20240310T080000
END:DAYLIGHT
BEGIN:STANDARD
TZOFFSETFROM:-0500
TZOFFSETTO:-0600
TZNAME:CST
DTSTART:20241103T070000
END:STANDARD
END:VTIMEZONE
BEGIN:VEVENT
DTSTART;TZID=America/Chicago:20230609T190000
DTEND;TZID=America/Chicago:20230609T210000
DTSTAMP:20260424T062214
CREATED:20230424T145943Z
LAST-MODIFIED:20230603T024255Z
UID:1833-1686337200-1686344400@www.memoryroadmusic.com
SUMMARY:United Fund Concert at Palace Theatre (Trio)
DESCRIPTION:Memory Road \, the Trio version\, (Dennis Hill\, Ken Duller & Glen Holverson) will perform as part of the star-studded lineup of local musical artists at the Historic Palace Theatre in downtown Crossville on Friday\, June 9th. \n \nJoin Host Tom (T.J.) Fincher for an evening of talent featuring many of your favorite artists\, along with some new talent! The line up includes Eric Fincher\, Regina Stephens and the Amazing Atticus. Show starts at 7 p.m. CT\, and doors will open at 6 p.m. All tickets are general seating and proceeds go to United Fund of Cumberland County\, which provides funding for more than 30 local nonprofits\, assuring that your donations and proceeds from the ticket sales of this fun event stay in Cumberland County. Concessions will be available. \nSponsors for this annual event include the Crossville Chronicle\, Glade Sun and Tansi Smoke Signals\, Forte’s on the Square\, Mayberry’s Furniture\, Farm Bureau Insurance\, Business Equipment Clinic\, Christy’s Pub Grub and Broccos’s Pizza\, Martin Plumbing\, and Cumberland Moving and Storage. \nTickets are $15\, all profits benefit The United Fund of Cumberland County\, which provides funding for more than 30 local nonprofit organizations. \n. For tickets or more information call 931-484-6133\, visit www.palacetheatre-crossville.com or click this ticket link. \n  \n 
URL:https://www.memoryroadmusic.com/event/united-fund-6-9-23/
END:VEVENT
BEGIN:VEVENT
DTSTART;TZID=America/Chicago:20230610T170000
DTEND;TZID=America/Chicago:20230610T200000
DTSTAMP:20260424T062214
CREATED:20230424T155256Z
LAST-MODIFIED:20230424T155256Z
UID:2258-1686416400-1686427200@www.memoryroadmusic.com
SUMMARY:Hebbertsburg Community Center Dinner-Dance (Trio)
DESCRIPTION:The Hebbertsburg Community Center Dinner-Dance series for 2023 continues on June 10th and every second Saturday of July (8th) and August (12th). \n\nDoors open around 3:15 PM.\nFood is available at 4:15 PM.\nDance music with Memory Road (the trio with Dennis\, Ken & Glen) is from 5:00 PM to 8:00 PM.\nAs\, in the past\, the Sweet T Cloggers will entertain you on the breaks.\nThe Cakewalk contest remains at $1 a chance\, with several volunteers providing the delicious cakes.\nAdmission – $7.00 per person at the door.\nDinner (Optional) – $11.00 per person (food costs have greatly increased). Meal choices are: spaghetti and meat sauce with bread or a BBQ sandwich with beans and chips and both meals include your choice of coffee\, tea\, water or a soft drink. Extra beverages and/or a dessert are still $1.00 each.\nNOTE: All of the workers at Hebbertsburg are volunteers and all monies collected are used to cover ongoing expenses.\n\nDirections: From Fairfield Glade\, from the 4-way stop\, take Peavine Road north (away from I-40) about 5 miles to the Y in the road with the stone house in the center. Take the left fork about a city block to the blue Community Center on the left. Any questions\, call 931-707-7837.
URL:https://www.memoryroadmusic.com/event/hebbertsburg-6-10-23/
END:VEVENT
BEGIN:VEVENT
DTSTART;TZID=America/Chicago:20230611T100000
DTEND;TZID=America/Chicago:20230611T150000
DTSTAMP:20260424T062214
CREATED:20230424T160253Z
LAST-MODIFIED:20230605T021703Z
UID:2262-1686477600-1686495600@www.memoryroadmusic.com
SUMMARY:Art In The Park (Trio)
DESCRIPTION:The Memory Road Trio (Dennis Hill\, Glen Holverson & Ken Duller) performs Sunday from 10:00 AM to 3:00 PM at this year’s “Art in the Park” event …  Rain or Shine! If the weather is bad\, the entertainment will be moved inside the multi-purpose building. So plan on attending because\, whatever the forecast\, there will be music! The Sunday performances are scheduled from 10 to Noon and 1 to 3\, with a long lunch break from Noon to 1.\nMark your calendars for the 10th Annual Art in the Park in Crossville (Fairfield Glade)\, sponsored by the Art Guild. This popular community outreach event will take place on Saturday\, June 10\, from 9 a.m. to 5 p.m.\, and Sunday\, June 11\, from 10 a.m. to 3 p.m. at the Plateau Creative Arts Center at 451 Lakeview Drive. \nEnjoy beautiful weather\, artwork\, delicious food and great music! Art vendors will have booths in the Art Center and outside on the beautiful grounds. There will be musical entertainment and food vendors outdoors too.\n\nFor more information\, please visit the Art Guild’s Facebook page and website at ArtGuildFairfieldGlade.net. The Art Guild at Fairfield Glade is a not-for-profit 501 (c)(3) organization and an equal opportunity provider.
URL:https://www.memoryroadmusic.com/event/art-in-the-park-6-11-23/
END:VEVENT
BEGIN:VEVENT
DTSTART;TZID=America/Chicago:20230616T190000
DTEND;TZID=America/Chicago:20230616T220000
DTSTAMP:20260424T062214
CREATED:20230103T132850Z
LAST-MODIFIED:20230604T120936Z
UID:2213-1686942000-1686952800@www.memoryroadmusic.com
SUMMARY:Moonliters Dance Club (Trio)
DESCRIPTION:Glen Holverson\, on sax\, joins Dennis & Ken for this Moonliter’s Dance Club performance! \n*** This month’s theme is “Prom Night” *** \nMoonliters Dance Club (* Members & Invited Guests ONLY!)\nFairfield Glade Multi-Purpose Building\n455 Lakeview Dr.\nFairfield Glade\, TN \n* For membership information or to secure a guest invitation\, contact moonlitersffg@gmail.com
URL:https://www.memoryroadmusic.com/event/moonliters-6-16-23/
END:VEVENT
END:VCALENDAR