BEGIN:VCALENDAR
VERSION:2.0
PRODID:-//Memory Road Music - ECPv6.15.20//NONSGML v1.0//EN
CALSCALE:GREGORIAN
METHOD:PUBLISH
X-ORIGINAL-URL:https://www.memoryroadmusic.com
X-WR-CALDESC:Events for Memory Road Music
REFRESH-INTERVAL;VALUE=DURATION:PT1H
X-Robots-Tag:noindex
X-PUBLISHED-TTL:PT1H
BEGIN:VTIMEZONE
TZID:America/Chicago
BEGIN:DAYLIGHT
TZOFFSETFROM:-0600
TZOFFSETTO:-0500
TZNAME:CDT
DTSTART:20220313T080000
END:DAYLIGHT
BEGIN:STANDARD
TZOFFSETFROM:-0500
TZOFFSETTO:-0600
TZNAME:CST
DTSTART:20221106T070000
END:STANDARD
BEGIN:DAYLIGHT
TZOFFSETFROM:-0600
TZOFFSETTO:-0500
TZNAME:CDT
DTSTART:20230312T080000
END:DAYLIGHT
BEGIN:STANDARD
TZOFFSETFROM:-0500
TZOFFSETTO:-0600
TZNAME:CST
DTSTART:20231105T070000
END:STANDARD
BEGIN:DAYLIGHT
TZOFFSETFROM:-0600
TZOFFSETTO:-0500
TZNAME:CDT
DTSTART:20240310T080000
END:DAYLIGHT
BEGIN:STANDARD
TZOFFSETFROM:-0500
TZOFFSETTO:-0600
TZNAME:CST
DTSTART:20241103T070000
END:STANDARD
END:VTIMEZONE
BEGIN:VEVENT
DTSTART;TZID=America/Chicago:20230708T170000
DTEND;TZID=America/Chicago:20230708T200000
DTSTAMP:20260425T093115
CREATED:20230424T155509Z
LAST-MODIFIED:20230424T155509Z
UID:2260-1688835600-1688846400@www.memoryroadmusic.com
SUMMARY:Hebbertsburg Community Center Dinner-Dance (Trio)
DESCRIPTION:The Hebbertsburg Community Center Dinner-Dance series for 2023 continues on July 8th and again on the second Saturday of August (12th) for the final dance of the season. \n\nDoors open around 3:15 PM.\nFood is available at 4:15 PM.\nDance music with Memory Road (the trio with Dennis\, Ken & Glen) is from 5:00 PM to 8:00 PM.\nAs\, in the past\, the Sweet T Cloggers will entertain you on the breaks.\nThe Cakewalk contest remains at $1 a chance\, with several volunteers providing the delicious cakes.\nAdmission – $7.00 per person at the door.\nDinner (Optional) – $11.00 per person (food costs have greatly increased). Meal choices are: spaghetti and meat sauce with bread or a BBQ sandwich with beans and chips and both meals include your choice of coffee\, tea\, water or a soft drink. Extra beverages and/or a dessert are still $1.00 each.\nNOTE: All of the workers at Hebbertsburg are volunteers and all monies collected are used to cover ongoing expenses.\n\nDirections: From Fairfield Glade\, from the 4-way stop\, take Peavine Road north (away from I-40) about 5 miles to the Y in the road with the stone house in the center. Take the left fork about a city block to the blue Community Center on the left. Any questions\, call 931-707-7837.
URL:https://www.memoryroadmusic.com/event/hebbertsburg-7-8-23/
END:VEVENT
BEGIN:VEVENT
DTSTART;TZID=America/Chicago:20230713T170000
DTEND;TZID=America/Chicago:20230713T190000
DTSTAMP:20260425T093115
CREATED:20230603T024305Z
LAST-MODIFIED:20230705T163241Z
UID:2280-1689267600-1689274800@www.memoryroadmusic.com
SUMMARY:Hilltoppers Benefit Concert (Trio)
DESCRIPTION:On Thursday\, July 13th\, Saint Francis of Assisi and the Knights of Columbus will present an outdoor concert at the square at the corner of Peavine Rd. and Stonehenge Drive in Fairfield Glade. This is a FREE concert\, however donations will be accepted to raise money for the Hilltoppers\, Inc. (a non-profit agency that provides supports and services to adults with intellectual and other specific disabilities promoting health\, independence and employment to achieve success and a full life). \nMemory Road (the Trio\, featuring Dennis\, Glen & Ken) will be performing several of your favorite oldies from the 50’s thru the early 90’s. Knights of Columbus member\, Larry Opatik\, is expected to do a couple of guest songs with the group. The show begins at 5:00 PM with performances by some of the ‘Hilltoppers‘ who are being aided by the program. \nNOTE: Should the event be postponed by weather\, the following Thursday\, July 20th is a “Rain Date”.
URL:https://www.memoryroadmusic.com/event/hilltoppers-7-13-23/
END:VEVENT
BEGIN:VEVENT
DTSTART;TZID=America/Chicago:20230721T180000
DTEND;TZID=America/Chicago:20230721T200000
DTSTAMP:20260425T093115
CREATED:20230424T160751Z
LAST-MODIFIED:20230705T163324Z
UID:2266-1689962400-1689969600@www.memoryroadmusic.com
SUMMARY:Grove at Fairfield Glade
DESCRIPTION:Memory Road (Dennis Hill & Ken Duller) will perform from 6 to 8 PM on the small stage at the “Grove at Fairfield Glade“. The ‘small stage’ is up the hill from the amphitheater where the Mirror Lake Blast concerts are held. There will be beer and wine for sale as well as pizza. Admission is Free. For information about the Grove\, click here. \nStop by\, have dinner and enjoy some great oldies! Check out our song list page and request some of your favorites.
URL:https://www.memoryroadmusic.com/event/grove-7-21-23/
END:VEVENT
BEGIN:VEVENT
DTSTART;TZID=America/Chicago:20230722T110000
DTEND;TZID=America/Chicago:20230722T140000
DTSTAMP:20260425T093115
CREATED:20230424T161709Z
LAST-MODIFIED:20230705T165847Z
UID:2268-1690023600-1690034400@www.memoryroadmusic.com
SUMMARY:Good Times Wine Spirits & Brew
DESCRIPTION:Memory Road (the Duo) featuring Ken & Dennis will be performing from 11 AM to 2 PM on Saturday\, July 22nd at Good Times Wine Spirits & Brew\, 1369 Interstate Drive in Crossville\, TN for their “Customer Appreciation Day”. There will be special tastings\, food\, giveaways\, plenty of discounts and\, of course\, great oldies music from Memory Road.
URL:https://www.memoryroadmusic.com/event/good-times-7-22-23/
END:VEVENT
END:VCALENDAR