BEGIN:VCALENDAR
VERSION:2.0
PRODID:-//Memory Road Music - ECPv6.15.20//NONSGML v1.0//EN
CALSCALE:GREGORIAN
METHOD:PUBLISH
X-ORIGINAL-URL:https://www.memoryroadmusic.com
X-WR-CALDESC:Events for Memory Road Music
REFRESH-INTERVAL;VALUE=DURATION:PT1H
X-Robots-Tag:noindex
X-PUBLISHED-TTL:PT1H
BEGIN:VTIMEZONE
TZID:America/Chicago
BEGIN:DAYLIGHT
TZOFFSETFROM:-0600
TZOFFSETTO:-0500
TZNAME:CDT
DTSTART:20220313T080000
END:DAYLIGHT
BEGIN:STANDARD
TZOFFSETFROM:-0500
TZOFFSETTO:-0600
TZNAME:CST
DTSTART:20221106T070000
END:STANDARD
BEGIN:DAYLIGHT
TZOFFSETFROM:-0600
TZOFFSETTO:-0500
TZNAME:CDT
DTSTART:20230312T080000
END:DAYLIGHT
BEGIN:STANDARD
TZOFFSETFROM:-0500
TZOFFSETTO:-0600
TZNAME:CST
DTSTART:20231105T070000
END:STANDARD
BEGIN:DAYLIGHT
TZOFFSETFROM:-0600
TZOFFSETTO:-0500
TZNAME:CDT
DTSTART:20240310T080000
END:DAYLIGHT
BEGIN:STANDARD
TZOFFSETFROM:-0500
TZOFFSETTO:-0600
TZNAME:CST
DTSTART:20241103T070000
END:STANDARD
END:VTIMEZONE
BEGIN:VEVENT
DTSTART;TZID=America/Chicago:20230811T190000
DTEND;TZID=America/Chicago:20230811T220000
DTSTAMP:20260425T074138
CREATED:20230628T110759Z
LAST-MODIFIED:20230630T153143Z
UID:2298-1691780400-1691791200@www.memoryroadmusic.com
SUMMARY:Light N' Lively Dance Club
DESCRIPTION:Light N’ Lively Dance Club (* Members & Guests)\nFairfield Glade Multi-Purpose Building\n455 Lakeview Dr.\nFairfield Glade\, TN \n*** This month’s theme is “Back To School” *** \n* This dance is open to guests as well as club members. Admission is $7.50 per person. Bring your beverage of choice (B.Y.O.B.) and please bring a snack to share at your table. \n* For membership information (couples and singles) and “guest invites” contact Jeff at lightnlivelyffg@gmail.com.
URL:https://www.memoryroadmusic.com/event/light-lively-8-11-23/
END:VEVENT
BEGIN:VEVENT
DTSTART;TZID=America/Chicago:20230812T170000
DTEND;TZID=America/Chicago:20230812T200000
DTSTAMP:20260425T074138
CREATED:20230604T121635Z
LAST-MODIFIED:20230604T121635Z
UID:2287-1691859600-1691870400@www.memoryroadmusic.com
SUMMARY:Hebbertsburg Community Center Dinner-Dance (Trio)
DESCRIPTION:The Hebbertsburg Community Center Dinner-Dance series for 2023 concludes on Saturday\,  August 12th. This is the final dance of the season\, so don’t miss it! \n\nDoors open around 3:15 PM.\nFood is available at 4:15 PM.\nDance music with Memory Road (the trio with Dennis\, Ken & Glen) is from 5:00 PM to 8:00 PM.\nAs\, in the past\, the Sweet T Cloggers will entertain you on the breaks.\nThe Cakewalk contest remains at $1 a chance\, with several volunteers providing the delicious cakes.\nAdmission – $7.00 per person at the door.\nDinner (Optional) – $11.00 per person (food costs have greatly increased). Meal choices are: spaghetti and meat sauce with bread or a BBQ sandwich with beans and chips and both meals include your choice of coffee\, tea\, water or a soft drink. Extra beverages and/or a dessert are still $1.00 each.\nNOTE: All of the workers at Hebbertsburg are volunteers and all monies collected are used to cover ongoing expenses.\n\nDirections: From Fairfield Glade\, from the 4-way stop\, take Peavine Road north (away from I-40) about 5 miles to the Y in the road with the stone house in the center. Take the left fork about a city block to the blue Community Center on the left. Any questions\, call 931-707-7837.
URL:https://www.memoryroadmusic.com/event/hebbertsburg-8-12-23/
END:VEVENT
END:VCALENDAR