BEGIN:VCALENDAR
VERSION:2.0
PRODID:-//Memory Road Music - ECPv6.15.20//NONSGML v1.0//EN
CALSCALE:GREGORIAN
METHOD:PUBLISH
X-ORIGINAL-URL:https://www.memoryroadmusic.com
X-WR-CALDESC:Events for Memory Road Music
REFRESH-INTERVAL;VALUE=DURATION:PT1H
X-Robots-Tag:noindex
X-PUBLISHED-TTL:PT1H
BEGIN:VTIMEZONE
TZID:America/Chicago
BEGIN:DAYLIGHT
TZOFFSETFROM:-0600
TZOFFSETTO:-0500
TZNAME:CDT
DTSTART:20230312T080000
END:DAYLIGHT
BEGIN:STANDARD
TZOFFSETFROM:-0500
TZOFFSETTO:-0600
TZNAME:CST
DTSTART:20231105T070000
END:STANDARD
BEGIN:DAYLIGHT
TZOFFSETFROM:-0600
TZOFFSETTO:-0500
TZNAME:CDT
DTSTART:20240310T080000
END:DAYLIGHT
BEGIN:STANDARD
TZOFFSETFROM:-0500
TZOFFSETTO:-0600
TZNAME:CST
DTSTART:20241103T070000
END:STANDARD
BEGIN:DAYLIGHT
TZOFFSETFROM:-0600
TZOFFSETTO:-0500
TZNAME:CDT
DTSTART:20250309T080000
END:DAYLIGHT
BEGIN:STANDARD
TZOFFSETFROM:-0500
TZOFFSETTO:-0600
TZNAME:CST
DTSTART:20251102T070000
END:STANDARD
END:VTIMEZONE
BEGIN:VEVENT
DTSTART;TZID=America/Chicago:20240510T190000
DTEND;TZID=America/Chicago:20240510T220000
DTSTAMP:20260424T162918
CREATED:20231114T123252Z
LAST-MODIFIED:20240408T135951Z
UID:2373-1715367600-1715378400@www.memoryroadmusic.com
SUMMARY:Light N' Lively Dance Club (Trio)
DESCRIPTION:The Memory Road Trio (Dennis Hill\, Glen Holverson & Ken Duller) perform at this month’s Light N’ Lively Dance Club event. \nLight N’ Lively Dance Club (* Members & Guests)\nFairfield Glade Multi-Purpose Building\n455 Lakeview Dr.\nFairfield Glade\, TN \n*** This month’s theme is “Prom Night” *** \n* This dance is open to guests as well as club members. Admission is $7.50 per person. Bring your beverage of choice (B.Y.O.B.) and please bring a snack to share at your table. \n* For membership information (couples and singles) and “guest invites” contact Jeff at lightnlivelyffg@gmail.com.
URL:https://www.memoryroadmusic.com/event/light-n-lively-5-10-24/
END:VEVENT
BEGIN:VEVENT
DTSTART;TZID=America/Chicago:20240511T170000
DTEND;TZID=America/Chicago:20240511T200000
DTSTAMP:20260424T162918
CREATED:20240304T225150Z
LAST-MODIFIED:20240304T225150Z
UID:2474-1715446800-1715457600@www.memoryroadmusic.com
SUMMARY:Hebbertsburg Community Center Dinner-Dance (Trio)
DESCRIPTION:The 2nd Hebbertsburg Community Center Dinner-Dance of the season will be held on May 11th. The series of dances continue on the second Saturday of every month through August 10th. \n\nDoors open around 3:15 PM.\nFood is available at 4:15 PM.\nDance music with Memory Road (the trio with Dennis\, Ken & Glen) is from 5:00 PM to 8:00 PM.\nAs\, in the past\, the Sweet T Cloggers will entertain you on the breaks.\nThe Cakewalk contest remains at $1 a chance\, with several volunteers providing the delicious cakes.\nAdmission – $7.00 per person at the door.\nDinner (Optional) – $11.00 per person (same as last year). Meal choices are: spaghetti and meat sauce with bread or a BBQ sandwich with beans and chips and both meals include your choice of coffee\, tea\, water or a soft drink. Extra beverages and/or a dessert are still $1.00 each.\nNOTE: All of the workers at Hebbertsburg are volunteers and all monies collected are used to cover ongoing expenses.\n\nDirections: From Fairfield Glade\, from the 4-way stop\, take Peavine Road north (away from I-40) about 5 miles to the Y in the road with the stone house in the center. Take the left fork about a city block to the blue Community Center on the left. Any questions\, call 931-707-7837.
URL:https://www.memoryroadmusic.com/event/hebbertsburg-5-11-24/
END:VEVENT
BEGIN:VEVENT
DTSTART;TZID=America/Chicago:20240525T110000
DTEND;TZID=America/Chicago:20240525T140000
DTSTAMP:20260424T162918
CREATED:20240408T134839Z
LAST-MODIFIED:20240525T145100Z
UID:2482-1716634800-1716645600@www.memoryroadmusic.com
SUMMARY:Fairfield Glade Craft Fair (Trio)
DESCRIPTION:Due to weather issues\, the music will be from 1:00 PM to 3:00 PM instead of 11 AM to 2 PM.\nThe annual Memorial Day Weekend Fairfield Glade Craft Fair will be held on May 25th and 26th on the square in Fairfield Glade (corner of Stonehenge Drive and Peavine Road). In addition to a variety of craft booths and food\, there will be entertainment both days. Memory Road\, the Trio featuring Dennis Hill\, Glen Holverson & Ken Duller\, will perform on Saturday\, May 25th from 11 AM to 2:00 PM. Bring your lawn chairs and joins us for some great pop and country oldies from the 50’s through the 90’s!\n﻿
URL:https://www.memoryroadmusic.com/event/fairfield-glade-craft-fair-5-25-24/
END:VEVENT
END:VCALENDAR