BEGIN:VCALENDAR
VERSION:2.0
PRODID:-//Memory Road Music - ECPv6.15.20//NONSGML v1.0//EN
CALSCALE:GREGORIAN
METHOD:PUBLISH
X-WR-CALNAME:Memory Road Music
X-ORIGINAL-URL:https://www.memoryroadmusic.com
X-WR-CALDESC:Events for Memory Road Music
REFRESH-INTERVAL;VALUE=DURATION:PT1H
X-Robots-Tag:noindex
X-PUBLISHED-TTL:PT1H
BEGIN:VTIMEZONE
TZID:America/Chicago
BEGIN:DAYLIGHT
TZOFFSETFROM:-0600
TZOFFSETTO:-0500
TZNAME:CDT
DTSTART:20230312T080000
END:DAYLIGHT
BEGIN:STANDARD
TZOFFSETFROM:-0500
TZOFFSETTO:-0600
TZNAME:CST
DTSTART:20231105T070000
END:STANDARD
BEGIN:DAYLIGHT
TZOFFSETFROM:-0600
TZOFFSETTO:-0500
TZNAME:CDT
DTSTART:20240310T080000
END:DAYLIGHT
BEGIN:STANDARD
TZOFFSETFROM:-0500
TZOFFSETTO:-0600
TZNAME:CST
DTSTART:20241103T070000
END:STANDARD
BEGIN:DAYLIGHT
TZOFFSETFROM:-0600
TZOFFSETTO:-0500
TZNAME:CDT
DTSTART:20250309T080000
END:DAYLIGHT
BEGIN:STANDARD
TZOFFSETFROM:-0500
TZOFFSETTO:-0600
TZNAME:CST
DTSTART:20251102T070000
END:STANDARD
END:VTIMEZONE
BEGIN:VEVENT
DTSTART;TZID=America/Chicago:20240608T170000
DTEND;TZID=America/Chicago:20240608T200000
DTSTAMP:20260424T145955
CREATED:20240304T225356Z
LAST-MODIFIED:20240304T225434Z
UID:2476-1717866000-1717876800@www.memoryroadmusic.com
SUMMARY:Hebbertsburg Community Center Dinner-Dance (Trio)
DESCRIPTION:The 3rd Hebbertsburg Community Center Dinner-Dance of the season will be held on June 8th. The series of dances continue on the second Saturday of every month through August 10th. \n\nDoors open around 3:15 PM.\nFood is available at 4:15 PM.\nDance music with Memory Road (the trio with Dennis\, Ken & Glen) is from 5:00 PM to 8:00 PM.\nAs\, in the past\, the Sweet T Cloggers will entertain you on the breaks.\nThe Cakewalk contest remains at $1 a chance\, with several volunteers providing the delicious cakes.\nAdmission – $7.00 per person at the door.\nDinner (Optional) – $11.00 per person (same as last year). Meal choices are: spaghetti and meat sauce with bread or a BBQ sandwich with beans and chips and both meals include your choice of coffee\, tea\, water or a soft drink. Extra beverages and/or a dessert are still $1.00 each.\nNOTE: All of the workers at Hebbertsburg are volunteers and all monies collected are used to cover ongoing expenses.\n\nDirections: From Fairfield Glade\, from the 4-way stop\, take Peavine Road north (away from I-40) about 5 miles to the Y in the road with the stone house in the center. Take the left fork about a city block to the blue Community Center on the left. Any questions\, call 931-707-7837.
URL:https://www.memoryroadmusic.com/event/hebbertsburg-6-8-24/
END:VEVENT
BEGIN:VEVENT
DTSTART;TZID=America/Chicago:20240621T190000
DTEND;TZID=America/Chicago:20240621T220000
DTSTAMP:20260424T145955
CREATED:20240408T135120Z
LAST-MODIFIED:20240513T212314Z
UID:2484-1718996400-1719007200@www.memoryroadmusic.com
SUMMARY:Moonliters Dance Club (Trio)
DESCRIPTION:The Memory Road Trio (Glen Holverson on sax\, Dennis Hill & Ken Duller) entertain at this month’s Moonliter’s Dance Club event! \n*** This month’s theme is “1st Day of Summer” *** \nMoonliters Dance Club (* Members & Invited Guests ONLY!)\nFairfield Glade Multi-Purpose Building\n455 Lakeview Dr.\nFairfield Glade\, TN \n* For membership information or to secure a guest invitation\, contact moonlitersffg@gmail.com
URL:https://www.memoryroadmusic.com/event/moonliters-6-21-24/
END:VEVENT
BEGIN:VEVENT
DTSTART;TZID=America/Chicago:20240622T180000
DTEND;TZID=America/Chicago:20240622T203000
DTSTAMP:20260424T145955
CREATED:20240506T160646Z
LAST-MODIFIED:20240617T201520Z
UID:2492-1719079200-1719088200@www.memoryroadmusic.com
SUMMARY:Grove Theater (Trio) (Cancelled)
DESCRIPTION:JRShowtime and The Grove Theater are regretfully canceling Saturday’s (June 22nd) show. Sorry\, if you were planning on attending. Check our schedule page for other Memory Road shows where you can hear some great oldies!\nMemory Road\, the trio\, will be ‘in concert’ at the historic Grove Theater in Oak Ridge at 123 Randolph Road on June 22nd from 6:00 PM to 8:30 PM\, Central Time. (NOTE: Oak Ridge is on Eastern Time so it will be 7:00 PM to 9:30 PM in Oak Ridge.) The Grove Theater is a place of history that holds many wonderful memories for the community of Oak Ridge. From it’s time during “The Secret” era of the 1940’s until today\, it flourishes as a useful facility\, still contributing to the Oak Ridge Community. The theater seats 500 people and holds regular events of all types\, including some great musical performances. \nFor more information about the theater\, please visit the promoter’s web site … JR Showtime.com. \nAdvance tickets priced at $10 are available through EventBrite. Tickets may also be purchased at the door the night of the show. Doors open at 6:30 PM Eastern Time.
URL:https://www.memoryroadmusic.com/event/grove-theater-6-22-24/
END:VEVENT
END:VCALENDAR