BEGIN:VCALENDAR
VERSION:2.0
PRODID:-//Memory Road Music - ECPv6.15.20//NONSGML v1.0//EN
CALSCALE:GREGORIAN
METHOD:PUBLISH
X-WR-CALNAME:Memory Road Music
X-ORIGINAL-URL:https://www.memoryroadmusic.com
X-WR-CALDESC:Events for Memory Road Music
REFRESH-INTERVAL;VALUE=DURATION:PT1H
X-Robots-Tag:noindex
X-PUBLISHED-TTL:PT1H
BEGIN:VTIMEZONE
TZID:America/Chicago
BEGIN:DAYLIGHT
TZOFFSETFROM:-0600
TZOFFSETTO:-0500
TZNAME:CDT
DTSTART:20230312T080000
END:DAYLIGHT
BEGIN:STANDARD
TZOFFSETFROM:-0500
TZOFFSETTO:-0600
TZNAME:CST
DTSTART:20231105T070000
END:STANDARD
BEGIN:DAYLIGHT
TZOFFSETFROM:-0600
TZOFFSETTO:-0500
TZNAME:CDT
DTSTART:20240310T080000
END:DAYLIGHT
BEGIN:STANDARD
TZOFFSETFROM:-0500
TZOFFSETTO:-0600
TZNAME:CST
DTSTART:20241103T070000
END:STANDARD
BEGIN:DAYLIGHT
TZOFFSETFROM:-0600
TZOFFSETTO:-0500
TZNAME:CDT
DTSTART:20250309T080000
END:DAYLIGHT
BEGIN:STANDARD
TZOFFSETFROM:-0500
TZOFFSETTO:-0600
TZNAME:CST
DTSTART:20251102T070000
END:STANDARD
END:VTIMEZONE
BEGIN:VEVENT
DTSTART;TZID=America/Chicago:20240809T190000
DTEND;TZID=America/Chicago:20240809T220000
DTSTAMP:20260424T115641
CREATED:20240627T133841Z
LAST-MODIFIED:20240627T133841Z
UID:2547-1723230000-1723240800@www.memoryroadmusic.com
SUMMARY:Light N' Lively Dance Club (Duo)
DESCRIPTION:The Memory Road Duo (Dennis Hill & Ken Duller) perform at this month’s Light N’ Lively Dance Club event. \nLight N’ Lively Dance Club (* Members & Guests)\nFairfield Glade Multi-Purpose Building\n455 Lakeview Dr.\nFairfield Glade\, TN \n*** This month’s theme is “Back to School” *** \n* This dance is open to guests as well as club members. Admission is $7.50 per person. Bring your beverage of choice (B.Y.O.B.) and please bring a snack to share at your table. \n* For membership information (couples and singles) and “guest invites” contact Jeff at lightnlivelyffg@gmail.com.
URL:https://www.memoryroadmusic.com/event/light-n-lively-8-9-24/
END:VEVENT
BEGIN:VEVENT
DTSTART;TZID=America/Chicago:20240810T170000
DTEND;TZID=America/Chicago:20240810T200000
DTSTAMP:20260424T115641
CREATED:20240408T135805Z
LAST-MODIFIED:20240408T135805Z
UID:2488-1723309200-1723320000@www.memoryroadmusic.com
SUMMARY:Hebbertsburg Community Center Dinner-Dance (Trio)
DESCRIPTION:The 5th and final Hebbertsburg Community Center Dinner-Dance of the season will be held on August 10th. This is the last chance for you to come out and enjoy the food and entertainment for this year! \n\nDoors open around 3:15 PM.\nFood is available at 4:15 PM.\nDance music with Memory Road (the trio with Dennis\, Ken & Glen) is from 5:00 PM to 8:00 PM.\nAs\, in the past\, the Sweet T Cloggers will entertain you on the breaks.\nThe Cakewalk contest remains at $1 a chance\, with several volunteers providing the delicious cakes.\nAdmission – $7.00 per person at the door.\nDinner (Optional) – $11.00 per person (same as last year). Meal choices are: spaghetti and meat sauce with bread or a BBQ sandwich with beans and chips and both meals include your choice of coffee\, tea\, water or a soft drink. Extra beverages and/or a dessert are still $1.00 each.\nNOTE: All of the workers at Hebbertsburg are volunteers and all monies collected are used to cover ongoing expenses.\n\nDirections: From Fairfield Glade\, from the 4-way stop\, take Peavine Road north (away from I-40) about 5 miles to the Y in the road with the stone house in the center. Take the left fork about a city block to the blue Community Center on the left. Any questions\, call 931-707-7837.
URL:https://www.memoryroadmusic.com/event/hebbertsburg-8-10-24/
END:VEVENT
BEGIN:VEVENT
DTSTART;TZID=America/Chicago:20240814T120000
DTEND;TZID=America/Chicago:20240814T130000
DTSTAMP:20260424T115641
CREATED:20240408T133122Z
LAST-MODIFIED:20240813T121407Z
UID:2479-1723636800-1723640400@www.memoryroadmusic.com
SUMMARY:Art Circle Library (Duo)
DESCRIPTION:Memory Road (Dennis Hill and Ken Duller) will entertain at a ‘Lunch Hour’ Concert at the Art Circle Public Library in Crossville\, TN on Wednesday\, August 14th from Noon to 1:00 PM. This performance will feature one of the duo’s “Soundtrack of Our Lives”  ‘theme’ shows that will feature a variety of songs from the 50’s through the early 90’s\, including musical salutes to Jim Croce\, Elvis and Woodstock. It will be a jam-packed hour of musical memories that you don’t want to miss! \nThe show is part of the library’s 12:00 Noon Concert Series held on most Wednesday’s from March through December in the Cumberland Meeting Room. There is no admission charge. For more information about the library\, visit the Art Circle Public Library web site.
URL:https://www.memoryroadmusic.com/event/art-circle-library-8-14-24/
END:VEVENT
BEGIN:VEVENT
DTSTART;TZID=America/Chicago:20240826T173000
DTEND;TZID=America/Chicago:20240826T200000
DTSTAMP:20260424T115641
CREATED:20240627T132808Z
LAST-MODIFIED:20240822T120523Z
UID:2536-1724693400-1724702400@www.memoryroadmusic.com
SUMMARY:Mirror Lake Blast (Trio)
DESCRIPTION:Memory Road (the Trio) returns to the stage at the Mirror Lake Blast on Monday\, August 26th from 5:45 PM to 8:00 PM. The event is held at the new Grove amphitheater’s main stage and sponsored by Dave Kirk Automotive of Crossville. Admission is free for anyone\, even non-residents of Fairfield Glade. Bring your lawn chairs and picnic baskets and get ready to sing along with and dance to some great oldies from the 50’s through the 90’s. For additional information about the Grove at the Glade\, click here.
URL:https://www.memoryroadmusic.com/event/mirror-lake-8-26-24/
END:VEVENT
END:VCALENDAR