BEGIN:VCALENDAR
VERSION:2.0
PRODID:-//Memory Road Music - ECPv6.15.20//NONSGML v1.0//EN
CALSCALE:GREGORIAN
METHOD:PUBLISH
X-ORIGINAL-URL:https://www.memoryroadmusic.com
X-WR-CALDESC:Events for Memory Road Music
REFRESH-INTERVAL;VALUE=DURATION:PT1H
X-Robots-Tag:noindex
X-PUBLISHED-TTL:PT1H
BEGIN:VTIMEZONE
TZID:America/Chicago
BEGIN:DAYLIGHT
TZOFFSETFROM:-0600
TZOFFSETTO:-0500
TZNAME:CDT
DTSTART:20230312T080000
END:DAYLIGHT
BEGIN:STANDARD
TZOFFSETFROM:-0500
TZOFFSETTO:-0600
TZNAME:CST
DTSTART:20231105T070000
END:STANDARD
BEGIN:DAYLIGHT
TZOFFSETFROM:-0600
TZOFFSETTO:-0500
TZNAME:CDT
DTSTART:20240310T080000
END:DAYLIGHT
BEGIN:STANDARD
TZOFFSETFROM:-0500
TZOFFSETTO:-0600
TZNAME:CST
DTSTART:20241103T070000
END:STANDARD
BEGIN:DAYLIGHT
TZOFFSETFROM:-0600
TZOFFSETTO:-0500
TZNAME:CDT
DTSTART:20250309T080000
END:DAYLIGHT
BEGIN:STANDARD
TZOFFSETFROM:-0500
TZOFFSETTO:-0600
TZNAME:CST
DTSTART:20251102T070000
END:STANDARD
END:VTIMEZONE
BEGIN:VEVENT
DTSTART;TZID=America/Chicago:20241012T120000
DTEND;TZID=America/Chicago:20241012T160000
DTSTAMP:20260424T085246
CREATED:20240916T200643Z
LAST-MODIFIED:20240916T200643Z
UID:2564-1728734400-1728748800@www.memoryroadmusic.com
SUMMARY:Cruise-In Car Show (Trio)
DESCRIPTION:Dennis\, Ken & Glen\, the Memory Road Trio will perform 2 shows (at Noon and at 3 PM) at the Crab Orchard Cruise-In Car Show! Come on out for some great oldies\, classic cars and lots of fun! \nThe annual Cruise-In Car Show is held as part of the Crab Orchard Christian Church “Back Porch Fall Festival” on Saturday\, October 12th from 10:00 AM to 5:00 PM. Rain or Shine!! The event welcomes Show Cars\, Semi’s\, Rat Rods\, Tractors\, Motorcycles & More. There will also be Swap Meet Vendors\, Craft Vendors & Oldies and Gospel Music. Admission is FREE. Grounds open at 7am\, Food will be available at 11am. For more information\, call 931-484-6111.
URL:https://www.memoryroadmusic.com/event/cruise-in-car-show-10-12-24/
END:VEVENT
END:VCALENDAR