BEGIN:VCALENDAR
VERSION:2.0
PRODID:-//Memory Road Music - ECPv6.15.20//NONSGML v1.0//EN
CALSCALE:GREGORIAN
METHOD:PUBLISH
X-WR-CALNAME:Memory Road Music
X-ORIGINAL-URL:https://www.memoryroadmusic.com
X-WR-CALDESC:Events for Memory Road Music
REFRESH-INTERVAL;VALUE=DURATION:PT1H
X-Robots-Tag:noindex
X-PUBLISHED-TTL:PT1H
BEGIN:VTIMEZONE
TZID:America/Chicago
BEGIN:DAYLIGHT
TZOFFSETFROM:-0600
TZOFFSETTO:-0500
TZNAME:CDT
DTSTART:20230312T080000
END:DAYLIGHT
BEGIN:STANDARD
TZOFFSETFROM:-0500
TZOFFSETTO:-0600
TZNAME:CST
DTSTART:20231105T070000
END:STANDARD
BEGIN:DAYLIGHT
TZOFFSETFROM:-0600
TZOFFSETTO:-0500
TZNAME:CDT
DTSTART:20240310T080000
END:DAYLIGHT
BEGIN:STANDARD
TZOFFSETFROM:-0500
TZOFFSETTO:-0600
TZNAME:CST
DTSTART:20241103T070000
END:STANDARD
BEGIN:DAYLIGHT
TZOFFSETFROM:-0600
TZOFFSETTO:-0500
TZNAME:CDT
DTSTART:20250309T080000
END:DAYLIGHT
BEGIN:STANDARD
TZOFFSETFROM:-0500
TZOFFSETTO:-0600
TZNAME:CST
DTSTART:20251102T070000
END:STANDARD
BEGIN:DAYLIGHT
TZOFFSETFROM:-0600
TZOFFSETTO:-0500
TZNAME:CDT
DTSTART:20260308T080000
END:DAYLIGHT
BEGIN:STANDARD
TZOFFSETFROM:-0500
TZOFFSETTO:-0600
TZNAME:CST
DTSTART:20261101T070000
END:STANDARD
END:VTIMEZONE
BEGIN:VEVENT
DTSTART;TZID=America/Chicago:20241213T190000
DTEND;TZID=America/Chicago:20241213T220000
DTSTAMP:20260424T053247
CREATED:20240627T133413Z
LAST-MODIFIED:20241116T130110Z
UID:2545-1734116400-1734127200@www.memoryroadmusic.com
SUMMARY:Light N' Lively Dance Club (Trio)
DESCRIPTION:The Memory Road Trio (Dennis Hill\, Glen Holverson  & Ken Duller) perform at this month’s Light N’ Lively Dance Club event. \nLight N’ Lively Dance Club (* Members & Guests)\nFairfield Glade Multi-Purpose Building\n455 Lakeview Dr.\nFairfield Glade\, TN \n*** This month’s theme is “Winter Gala” *** \n* This dance is open to guests as well as club members. Admission is $7.50 per person. Bring your beverage of choice (B.Y.O.B.) and please bring a snack to share at your table. \n* For membership information (couples and singles) and “guest invites” contact Jeff at lightnlivelyffg@gmail.com.
URL:https://www.memoryroadmusic.com/event/light-n-lively-12-13-24/
END:VEVENT
BEGIN:VEVENT
DTSTART;TZID=America/Chicago:20241231T203000
DTEND;TZID=America/Chicago:20250101T003000
DTSTAMP:20260424T053247
CREATED:20241010T120619Z
LAST-MODIFIED:20241223T192901Z
UID:2574-1735677000-1735691400@www.memoryroadmusic.com
SUMMARY:Moonliter's Dance Club (Trio) - New Year's Eve
DESCRIPTION:The Moonliter’s Dance Club will be hosting a Roaring 20’s New Year’s Eve Bash at The Center in Fairfield Glade from 8:30 pm to 12:30 am on Tuesday\, December 31st. This event is open to the anyone and not limited to dance club members.\n———————————————————–\n\nMemory Road (Dennis\, Ken & Glen) will provide the dance music from 8:30 PM to 12:30 AM.\nSpecial Guest performances by Dennis Long & Michael Ruff.\nHeavy Hors d’oeuvres catered by Willow Catering beginning at 9:00 PM.\nThere will be a Cash Bar and a Champagne Toast at Midnight.\nAlso .. a Photo Station for pictures. So dress up in your finest to welcome in the New Year.\nTickets for members of Moonliters and Light ‘N Lively dance clubs will be $55 a person.\nTickets for non-members (general public) are $60 a person.\nThink about inviting friends and neighbors. Round tables of 8 at The Center make it easy for conversation and socializing with everyone.\nTo purchase tickets or if you have questions call (585) 966-9540 or email moonlitersffg@gmail.com
URL:https://www.memoryroadmusic.com/event/moonliters-12-31-24/
END:VEVENT
END:VCALENDAR