BEGIN:VCALENDAR
VERSION:2.0
PRODID:-//Memory Road Music - ECPv6.15.20//NONSGML v1.0//EN
CALSCALE:GREGORIAN
METHOD:PUBLISH
X-ORIGINAL-URL:https://www.memoryroadmusic.com
X-WR-CALDESC:Events for Memory Road Music
REFRESH-INTERVAL;VALUE=DURATION:PT1H
X-Robots-Tag:noindex
X-PUBLISHED-TTL:PT1H
BEGIN:VTIMEZONE
TZID:America/Chicago
BEGIN:DAYLIGHT
TZOFFSETFROM:-0600
TZOFFSETTO:-0500
TZNAME:CDT
DTSTART:20240310T080000
END:DAYLIGHT
BEGIN:STANDARD
TZOFFSETFROM:-0500
TZOFFSETTO:-0600
TZNAME:CST
DTSTART:20241103T070000
END:STANDARD
BEGIN:DAYLIGHT
TZOFFSETFROM:-0600
TZOFFSETTO:-0500
TZNAME:CDT
DTSTART:20250309T080000
END:DAYLIGHT
BEGIN:STANDARD
TZOFFSETFROM:-0500
TZOFFSETTO:-0600
TZNAME:CST
DTSTART:20251102T070000
END:STANDARD
BEGIN:DAYLIGHT
TZOFFSETFROM:-0600
TZOFFSETTO:-0500
TZNAME:CDT
DTSTART:20260308T080000
END:DAYLIGHT
BEGIN:STANDARD
TZOFFSETFROM:-0500
TZOFFSETTO:-0600
TZNAME:CST
DTSTART:20261101T070000
END:STANDARD
END:VTIMEZONE
BEGIN:VEVENT
DTSTART;TZID=America/Chicago:20250214T190000
DTEND;TZID=America/Chicago:20250214T220000
DTSTAMP:20260424T014630
CREATED:20241116T130343Z
LAST-MODIFIED:20241116T130343Z
UID:2604-1739559600-1739570400@www.memoryroadmusic.com
SUMMARY:Light N' Lively Dance Club (Duo)
DESCRIPTION:The Memory Road Duo (Dennis Hill & Ken Duller) perform at this month’s Light N’ Lively Dance Club event. \nLight N’ Lively Dance Club (* Members & Guests)\nFairfield Glade Multi-Purpose Building\n455 Lakeview Dr.\nFairfield Glade\, TN \n*** This month’s theme is “Valentine’s Day” *** \n* This dance is open to guests as well as club members. Admission is $7.50 per person. Bring your beverage of choice (B.Y.O.B.) and please bring a snack to share at your table. \n* For membership information (couples and singles) and “guest invites” contact Jeff at lightnlivelyffg@gmail.com.
URL:https://www.memoryroadmusic.com/event/light-n-lively-2-14-25/
END:VEVENT
BEGIN:VEVENT
DTSTART;TZID=America/Chicago:20250221T190000
DTEND;TZID=America/Chicago:20250221T220000
DTSTAMP:20260424T014630
CREATED:20241116T130549Z
LAST-MODIFIED:20241116T130549Z
UID:2606-1740164400-1740175200@www.memoryroadmusic.com
SUMMARY:Moonliters Dance Club (Trio)
DESCRIPTION:The Memory Road Trio (Glen Holverson on sax\, Dennis Hill & Ken Duller) entertain at this month’s Moonliter’s Dance Club event! \n*** This month’s theme is “Mardi Gras” *** \nMoonliters Dance Club (* Members & Invited Guests ONLY!)\nFairfield Glade Multi-Purpose Building\n455 Lakeview Dr.\nFairfield Glade\, TN \n* For membership information or to secure a guest invitation\, contact moonlitersffg@gmail.com
URL:https://www.memoryroadmusic.com/event/moonliters-2-21-25/
END:VEVENT
END:VCALENDAR