BEGIN:VCALENDAR
VERSION:2.0
PRODID:-//Memory Road Music - ECPv6.15.20//NONSGML v1.0//EN
CALSCALE:GREGORIAN
METHOD:PUBLISH
X-ORIGINAL-URL:https://www.memoryroadmusic.com
X-WR-CALDESC:Events for Memory Road Music
REFRESH-INTERVAL;VALUE=DURATION:PT1H
X-Robots-Tag:noindex
X-PUBLISHED-TTL:PT1H
BEGIN:VTIMEZONE
TZID:America/Chicago
BEGIN:DAYLIGHT
TZOFFSETFROM:-0600
TZOFFSETTO:-0500
TZNAME:CDT
DTSTART:20240310T080000
END:DAYLIGHT
BEGIN:STANDARD
TZOFFSETFROM:-0500
TZOFFSETTO:-0600
TZNAME:CST
DTSTART:20241103T070000
END:STANDARD
BEGIN:DAYLIGHT
TZOFFSETFROM:-0600
TZOFFSETTO:-0500
TZNAME:CDT
DTSTART:20250309T080000
END:DAYLIGHT
BEGIN:STANDARD
TZOFFSETFROM:-0500
TZOFFSETTO:-0600
TZNAME:CST
DTSTART:20251102T070000
END:STANDARD
BEGIN:DAYLIGHT
TZOFFSETFROM:-0600
TZOFFSETTO:-0500
TZNAME:CDT
DTSTART:20260308T080000
END:DAYLIGHT
BEGIN:STANDARD
TZOFFSETFROM:-0500
TZOFFSETTO:-0600
TZNAME:CST
DTSTART:20261101T070000
END:STANDARD
END:VTIMEZONE
BEGIN:VEVENT
DTSTART;TZID=America/Chicago:20250412T170000
DTEND;TZID=America/Chicago:20250412T200000
DTSTAMP:20260423T214344
CREATED:20241218T165218Z
LAST-MODIFIED:20250305T173706Z
UID:2615-1744477200-1744488000@www.memoryroadmusic.com
SUMMARY:Hebbertsburg Community Center Dinner-Dance (Trio)
DESCRIPTION:The Hebbertsburg Community Center Dinner-Dance series for 2025 begins on April 12th and continues on the second Saturday of every month through August 9th. \n\nDoors open around 3:15 PM.\nFood is available at 4:15 PM.\nDance music with Memory Road (the trio with Dennis\, Ken & Glen) is from 5:00 PM to 8:00 PM.\nAs\, in the past\, the Sweet T Cloggers will entertain you on the breaks.\nThe Cakewalk contest remains at $1 a chance\, with several volunteers providing the delicious cakes.\nAdmission – $7.00 per person at the door.\nDinner (Optional) – $11.00 per person (same as last year). Meal choices are: spaghetti and meat sauce with bread or a BBQ sandwich with beans and chips and both meals include your choice of coffee\, tea\, water or a soft drink. Extra beverages and/or a dessert are still $1.00 each.\nNOTE: All of the workers at Hebbertsburg are volunteers and all monies collected are used to cover ongoing expenses.\n\n\nDirections: From Fairfield Glade\, from the 4-way stop\, take Peavine Road north (away from I-40) about 5 miles to the Y in the road with the stone house in the center. Take the left fork about a city block to the blue Community Center on the left. Any questions\, call 931-707-7837.
URL:https://www.memoryroadmusic.com/event/hebbertsburg-4-12-25/
END:VEVENT
BEGIN:VEVENT
DTSTART;TZID=America/Chicago:20250416T120000
DTEND;TZID=America/Chicago:20250416T130000
DTSTAMP:20260423T214344
CREATED:20250305T174353Z
LAST-MODIFIED:20250305T174353Z
UID:2631-1744804800-1744808400@www.memoryroadmusic.com
SUMMARY:Art Circle Library (Duo)
DESCRIPTION:Memory Road (Dennis Hill and Ken Duller) will entertain at a ‘Lunch Hour’ Concert at the Art Circle Public Library in Crossville\, TN on Wednesday\, April 16th from Noon to 1:00 PM. This performance will feature one of the duo’s “Soundtrack of Our Lives”  ‘theme’ shows that will feature a variety of songs from the 50’s through the early 90’s. It will be a jam-packed hour of musical memories that you don’t want to miss! \nThe show is part of the library’s 12:00 Noon Concert Series held on most Wednesday’s from March through December in the Cumberland Meeting Room. There is no admission charge. For more information about the library\, visit the Art Circle Public Library web site.
URL:https://www.memoryroadmusic.com/event/art-circle-library-4-16-25/
END:VEVENT
END:VCALENDAR