BEGIN:VCALENDAR
VERSION:2.0
PRODID:-//Memory Road Music - ECPv6.15.20//NONSGML v1.0//EN
CALSCALE:GREGORIAN
METHOD:PUBLISH
X-ORIGINAL-URL:https://www.memoryroadmusic.com
X-WR-CALDESC:Events for Memory Road Music
REFRESH-INTERVAL;VALUE=DURATION:PT1H
X-Robots-Tag:noindex
X-PUBLISHED-TTL:PT1H
BEGIN:VTIMEZONE
TZID:America/Chicago
BEGIN:DAYLIGHT
TZOFFSETFROM:-0600
TZOFFSETTO:-0500
TZNAME:CDT
DTSTART:20240310T080000
END:DAYLIGHT
BEGIN:STANDARD
TZOFFSETFROM:-0500
TZOFFSETTO:-0600
TZNAME:CST
DTSTART:20241103T070000
END:STANDARD
BEGIN:DAYLIGHT
TZOFFSETFROM:-0600
TZOFFSETTO:-0500
TZNAME:CDT
DTSTART:20250309T080000
END:DAYLIGHT
BEGIN:STANDARD
TZOFFSETFROM:-0500
TZOFFSETTO:-0600
TZNAME:CST
DTSTART:20251102T070000
END:STANDARD
BEGIN:DAYLIGHT
TZOFFSETFROM:-0600
TZOFFSETTO:-0500
TZNAME:CDT
DTSTART:20260308T080000
END:DAYLIGHT
BEGIN:STANDARD
TZOFFSETFROM:-0500
TZOFFSETTO:-0600
TZNAME:CST
DTSTART:20261101T070000
END:STANDARD
END:VTIMEZONE
BEGIN:VEVENT
DTSTART;TZID=America/Chicago:20250509T190000
DTEND;TZID=America/Chicago:20250509T220000
DTSTAMP:20260423T200826
CREATED:20250305T174618Z
LAST-MODIFIED:20250305T174618Z
UID:2633-1746817200-1746828000@www.memoryroadmusic.com
SUMMARY:Light N' Lively Dance Club (Duo)
DESCRIPTION:The Memory Road Duo (Dennis Hill & Ken Duller) perform at this month’s Light N’ Lively Dance Club event. \nLight N’ Lively Dance Club (* Members & Guests)\nFairfield Glade Multi-Purpose Building\n455 Lakeview Dr.\nFairfield Glade\, TN \n*** This month’s theme is “Memorial Day Picnic” *** \n* This dance is open to guests as well as club members. Admission is $7.50 per person. Bring your beverage of choice (B.Y.O.B.) and please bring a snack to share at your table. \n* For membership information (couples and singles) and “guest invites” contact Jeff at lightnlivelyffg@gmail.com.
URL:https://www.memoryroadmusic.com/event/light-n-lively-5-9-25/
END:VEVENT
BEGIN:VEVENT
DTSTART;TZID=America/Chicago:20250510T170000
DTEND;TZID=America/Chicago:20250510T200000
DTSTAMP:20260423T200826
CREATED:20250305T174040Z
LAST-MODIFIED:20250305T174040Z
UID:2629-1746896400-1746907200@www.memoryroadmusic.com
SUMMARY:Hebbertsburg Community Center Dinner-Dance (Trio)
DESCRIPTION:The 2nd Hebbertsburg Community Center Dinner-Dance of 2025 will be held on Saturday\,  May 10th. Dances are scheduled for the second Saturday of every month through August 9th. \n\nDoors open around 3:15 PM.\nFood is available at 4:15 PM.\nDance music with Memory Road (the trio with Dennis\, Ken & Glen) is from 5:00 PM to 8:00 PM.\nAs\, in the past\, the Sweet T Cloggers will entertain you on the breaks.\nThe Cakewalk contest remains at $1 a chance\, with several volunteers providing the delicious cakes.\nAdmission – $7.00 per person at the door.\nDinner (Optional) – $11.00 per person (same as last year). Meal choices are: spaghetti and meat sauce with bread or a BBQ sandwich with beans and chips and both meals include your choice of coffee\, tea\, water or a soft drink. Extra beverages and/or a dessert are still $1.00 each.\nNOTE: All of the workers at Hebbertsburg are volunteers and all monies collected are used to cover ongoing expenses.\n\n\nDirections: From Fairfield Glade\, from the 4-way stop\, take Peavine Road north (away from I-40) about 5 miles to the Y in the road with the stone house in the center. Take the left fork about a city block to the blue Community Center on the left. Any questions\, call 931-707-7837.
URL:https://www.memoryroadmusic.com/event/hebbertsburg-5-10-25/
END:VEVENT
BEGIN:VEVENT
DTSTART;TZID=America/Chicago:20250523T173000
DTEND;TZID=America/Chicago:20250523T193000
DTSTAMP:20260423T200826
CREATED:20250506T221850Z
LAST-MODIFIED:20250506T221850Z
UID:2652-1748021400-1748028600@www.memoryroadmusic.com
SUMMARY:Bristow Road Winery (Solo)
DESCRIPTION:Memory Road’s lead singer\, Dennis Hill\, will be performing solo at Bristow Road Winery in Crossville on Friday evening\, May 23rd from 5:30 to 7:30 PM. The music is scheduled to be outdoors\, on the pergola. If the weather is bad\, the performance will move indoors. \nStop by for some wine and tasty treats from the food truck and\, of course\, enjoy some great oldies from the 50’s through the 90’s. Dennis Hill‘s repertoire is\, probably\, twice the number of songs than the Memory Road duo or trio\, so plan to hear an even larger variety of music. Requests are welcomed. \nFor more details\, click here for the Bristow Road Winery Facebook page.
URL:https://www.memoryroadmusic.com/event/bristow-road-winery-5-23-25/
END:VEVENT
BEGIN:VEVENT
DTSTART;TZID=America/Chicago:20250527T180000
DTEND;TZID=America/Chicago:20250527T200000
DTSTAMP:20260423T200826
CREATED:20250325T193547Z
LAST-MODIFIED:20250521T121557Z
UID:2640-1748368800-1748376000@www.memoryroadmusic.com
SUMMARY:Stonehenge Grille (Solo)
DESCRIPTION:Memory Road’s lead singer\, Dennis Hill\, will be performing solo at Stonehenge Grille in Fairfield Glade on Tuesday evening\, May 27th from 6:00 to 8:00 PM. The music is scheduled to be outdoors\, on the deck\, adjacent to the restaurant\, overlooking the golf course. If the weather is bad\, we will move indoors. \nStop by for dinner and/or drinks and enjoy some great oldies from the 50’s through the 90’s. Dennis Hill‘s repertoire is\, probably\, twice the number of songs than the Memory Road duo or trio\, so plan to hear an even larger variety of music. Requests are welcomed. \nFor reservations\, call 931-484-3741. Must have a minimum of six people to reserve a table.
URL:https://www.memoryroadmusic.com/event/stonehenge-grille-5-27-25/
END:VEVENT
END:VCALENDAR