BEGIN:VCALENDAR
VERSION:2.0
PRODID:-//Memory Road Music - ECPv6.15.20//NONSGML v1.0//EN
CALSCALE:GREGORIAN
METHOD:PUBLISH
X-ORIGINAL-URL:https://www.memoryroadmusic.com
X-WR-CALDESC:Events for Memory Road Music
REFRESH-INTERVAL;VALUE=DURATION:PT1H
X-Robots-Tag:noindex
X-PUBLISHED-TTL:PT1H
BEGIN:VTIMEZONE
TZID:America/Chicago
BEGIN:DAYLIGHT
TZOFFSETFROM:-0600
TZOFFSETTO:-0500
TZNAME:CDT
DTSTART:20240310T080000
END:DAYLIGHT
BEGIN:STANDARD
TZOFFSETFROM:-0500
TZOFFSETTO:-0600
TZNAME:CST
DTSTART:20241103T070000
END:STANDARD
BEGIN:DAYLIGHT
TZOFFSETFROM:-0600
TZOFFSETTO:-0500
TZNAME:CDT
DTSTART:20250309T080000
END:DAYLIGHT
BEGIN:STANDARD
TZOFFSETFROM:-0500
TZOFFSETTO:-0600
TZNAME:CST
DTSTART:20251102T070000
END:STANDARD
BEGIN:DAYLIGHT
TZOFFSETFROM:-0600
TZOFFSETTO:-0500
TZNAME:CDT
DTSTART:20260308T080000
END:DAYLIGHT
BEGIN:STANDARD
TZOFFSETFROM:-0500
TZOFFSETTO:-0600
TZNAME:CST
DTSTART:20261101T070000
END:STANDARD
END:VTIMEZONE
BEGIN:VEVENT
DTSTART;TZID=America/Chicago:20250919T190000
DTEND;TZID=America/Chicago:20250919T220000
DTSTAMP:20260423T135845
CREATED:20250707T114725Z
LAST-MODIFIED:20250707T114725Z
UID:2685-1758308400-1758319200@www.memoryroadmusic.com
SUMMARY:Moonliters Dance Club (Trio)
DESCRIPTION:The Memory Road Trio (Glen Holverson on sax\, Dennis Hill & Ken Duller) entertain at this month’s Moonliter’s Dance Club event! \n*** This month’s theme is “Football” *** \nMoonliters Dance Club (* Members & Invited Guests ONLY!)\nFairfield Glade Multi-Purpose Building\n455 Lakeview Dr.\nFairfield Glade\, TN \n* For membership information or to secure a guest invitation\, contact moonlitersffg@gmail.com
URL:https://www.memoryroadmusic.com/event/moonliters-9-19-25/
END:VEVENT
BEGIN:VEVENT
DTSTART;TZID=America/Chicago:20250925T170000
DTEND;TZID=America/Chicago:20250925T200000
DTSTAMP:20260423T135845
CREATED:20250707T115754Z
LAST-MODIFIED:20250902T163359Z
UID:2689-1758819600-1758830400@www.memoryroadmusic.com
SUMMARY:Sock Hop for Alzheimer's TN (Trio)
DESCRIPTION:Memory Road (Trio) will\, once again\, be the entertainment for the “Hop Back In Time Sock Hop” to fight Alzheimer’s on Thursday\, September 25th from 5 to 8 PM at the Fair Park Senior Center on 1433 Livingston Rd in Crossville. A fun time was had by all who attended last year’s event in July of 2024! \nTickets are $20.00 per person and all proceeds from this event go toward Alzheimer’s Tennessee. Admission includes refreshments\, such as traditional sock hop goodies like hot dogs\, fries\, Coke floats and popcorn. There will also be a silent auction. \nTo purchase tickets\, visit the AlzTennessee.org Ticket Page on their web site. Seating is limited\, so don’t wait! Get your tickets now and help make Alzheimer’s a memory! \n \nKick off your shoes… pull up your socks… and dance to Make Alzheimer’s a Memory! \nHere is how to find the Fair Park Senior Center in Crossville …
URL:https://www.memoryroadmusic.com/event/sock-hop-for-alzheimers-9-25-25/
END:VEVENT
END:VCALENDAR